BEGIN:VCALENDAR
VERSION:2.0
PRODID:-//Desi Kino - ECPv6.15.20//NONSGML v1.0//EN
CALSCALE:GREGORIAN
METHOD:PUBLISH
X-WR-CALNAME:Desi Kino
X-ORIGINAL-URL:https://www.desikino.com
X-WR-CALDESC:Évènements pour Desi Kino
REFRESH-INTERVAL;VALUE=DURATION:PT1H
X-Robots-Tag:noindex
X-PUBLISHED-TTL:PT1H
BEGIN:VTIMEZONE
TZID:Europe/Paris
BEGIN:DAYLIGHT
TZOFFSETFROM:+0100
TZOFFSETTO:+0200
TZNAME:CEST
DTSTART:20250330T010000
END:DAYLIGHT
BEGIN:STANDARD
TZOFFSETFROM:+0200
TZOFFSETTO:+0100
TZNAME:CET
DTSTART:20251026T010000
END:STANDARD
BEGIN:DAYLIGHT
TZOFFSETFROM:+0100
TZOFFSETTO:+0200
TZNAME:CEST
DTSTART:20260329T010000
END:DAYLIGHT
BEGIN:STANDARD
TZOFFSETFROM:+0200
TZOFFSETTO:+0100
TZNAME:CET
DTSTART:20261025T010000
END:STANDARD
BEGIN:DAYLIGHT
TZOFFSETFROM:+0100
TZOFFSETTO:+0200
TZNAME:CEST
DTSTART:20270328T010000
END:DAYLIGHT
BEGIN:STANDARD
TZOFFSETFROM:+0200
TZOFFSETTO:+0100
TZNAME:CET
DTSTART:20271031T010000
END:STANDARD
END:VTIMEZONE
BEGIN:VEVENT
DTSTART;TZID=Europe/Paris:20260326T203000
DTEND;TZID=Europe/Paris:20260326T233000
DTSTAMP:20260420T104328
CREATED:20260302T164749Z
LAST-MODIFIED:20260402T085847Z
UID:3843-1774557000-1774567800@www.desikino.com
SUMMARY:Séance 3 : Manthan de Shyam Benegal
DESCRIPTION:📅 Date   Jeudi 26 mars 2026 \n\n\n\n\n\n⏰ Horaire   20h30 \n\n\n\n\n\n📍 Lieu   Cinéma Le Brady \n\n\n\n\n\n\n\n\n\n\n\n\n\n\n\n\n\n\n\n\n\n\n\n\n\n\n\n© Film Heritage Foundation\n\n\n\n\n\n\n\n\n\nTitre   Manthan (Le Barattage)  \nCinéaste   Shyam Benegal  \nAvec   Smita Patil\, Naseeruddin Shah\, Girish Karnad\, Amrish Puri et Kulbhushan Kharbanda  \nClassification   Tout public  \nGenre   Drame  \nPays   Inde  \nLangue   Hindi (VOSTFR)  \nAnnée   1976  \nDurée   2h14  \nशीर्षक   मंथन   \nनिर्देशक   श्याम बेनेगल  \nअभिनेता   स्मिता पाटिल\, नसीरुद्दीन शाह\, गिरीश कर्ना\, अमरीश पुरी और कुलभूषण खरबंदा  \nवर्गीकरण   सभी वय  \nशैली   नाटक  \nदेश   भारत  \nभाषा   हिंदी  \nवर्ष   १९७६  \nअवधि   २:१४  \n\n\n\n\n\nProjection exceptionnelle\, suivie d’une discussion avec Ophélie Wiel\, critique\, enseignante de cinéma à l’Université Paris III – Sorbonne Nouvelle et autrice de l’ouvrage Bollywood et les autres\, voyage au cœur du cinéma indien.  \n\n\n\nSynopsis  \n\n\n\nLe docteur Manohar Rao\, un vétérinaire idéaliste venu de la ville\, se rend dans une région rurale de l’Inde pour y monter une coopérative laitière. Ses idées de répartition équitable des bénéfices\, établie indépendamment des systèmes de castes\, et d’affranchissement des intermédiaires exploiteurs suscitent un tourbillon de méfiance\, de résistance mais aussi d’espoir parmi l’ensemble des habitants\, menaçant la hiérarchie sociale profondément enracinée…  \n\n\n\n« Il n’y a ni riche ni pauvre\, ni caste ni religion dans une coopérative. » – Docteur Manohar Rao  \n\n\n\nProduit grâce à un demi-million de fermiers du Gujarat\, ayant chacun contribué à hauteur de deux roupies\, Manthan est le tout premier exemple de financement participatif dans l’histoire du cinéma en Inde. Réalisée par le regretté Shyam Benegal\, figure emblématique du cinéma parallèle indien\, et portée par une pléiade d’acteurs illustres\, cette puissante fable sociale témoigne de la force collective qui mena l’Inde à sa Révolution blanche.  \n\n\n\n\n\n\n\nप्रदर्शन के बाद फिल्म समीक्षक\, पेरिस III – सोरबोन नुवेल विश्वविद्यालय में सिनेमा की अध्यापिका और पुस्तक Bollywood et les autres\, voyage au cœur du cinéma indien की लेखिका ओफेली विएल के साथ चर्चा।  \n\n\n\nसारांश  \n\n\n\nडॉक्टर मनोहर राव\, शहर से आए एक आदर्शवादी पशु-चिकित्सक\, भारत के एक ग्रामीण क्षेत्र में दुग्ध सहकारी समिति स्थापित करने के लिए पहुँचते हैं। लाभ के समान वितरण का उनका विचार – जो जाति-प्रथा से स्वतंत्र है – और शोषण करने वाले बिचौलियों से मुक्ति की उनकी पहल\, गाँव के निवासियों के बीच संदेह\, प्रतिरोध और साथ ही आशा की लहर पैदा करती है। इससे गहराई से जमी हुई सामाजिक संरचना और पदानुक्रम को चुनौती मिलती है…  \n\n\n\n«कोऑपरेटिव में अमीर गरीब\, ऊंच नीच का फर्क नहीं होता।» – डॉक्टउर मनोहर राव  \n\n\n\nगुजरात के पाँच लाख किसानों द्वारा निर्मित – जिनमें से प्रत्येक ने दो रुपये का योगदान दिया – मंथन  भारतीय सिनेमा के इतिहास में क्राउडफंडिंग का पहला उदाहरण है। दिवंगत श्याम बेनेगल  द्वारा निर्देशित\, जो भारतीय समानांतर सिनेमा के प्रमुख स्तंभ थे\, और अनेक प्रसिद्ध अभिनेताओं द्वारा अभिनीत\, यह प्रभावशाली सामाजिक रूपक उस सामूहिक शक्ति का प्रमाण है जिसने भारत की श्वेत क्रांति का मार्ग प्रशस्त किया।  \n\n\n\n\nRéservation conseillée
URL:https://www.desikino.com/evenement/seance-3-manthan-de-shyam-benegal/
LOCATION:Cinéma Le Brady\, 39 Boulevard de Strasbourg\, Paris\, 75010\, France
ATTACH;FMTTYPE=image/jpeg:https://www.desikino.com/wp-content/uploads/2026/02/Manthan.jpg
END:VEVENT
END:VCALENDAR